BEGIN:VCALENDAR
METHOD:PUBLISH
VERSION:2.0
PRODID:-//Eventilla iCal Syndication//NONSGML Liana//EN
BEGIN:VEVENT
UID:VEdkN@eventilla.com
DTSTAMP:20260527T060000Z
DTSTART:20260527T060000Z
DTEND:20260527T090000Z
SUMMARY:Ajankohtaista kansainvälisen kaupan ALV:ssa
LOCATION:Webinaari\, 00130\, Helsinki
URL:http://tapahtumat.ek-tieto.fi/event/VEdkN
END:VEVENT
END:VCALENDAR
