BEGIN:VCALENDAR
METHOD:PUBLISH
VERSION:2.0
PRODID:-//Eventilla iCal Syndication//NONSGML Liana//EN
BEGIN:VEVENT
UID:q7yKW@eventilla.com
DTSTAMP:20260519T093000Z
DTSTART:20260519T093000Z
DTEND:20260521T073000Z
SUMMARY:Turvallisuusalan neuvottelupäivät 2026
LOCATION:M/S Silja Serenade\, Olympiaterminaali | Eteläsatama\, 00140\,
 Helsinki
URL:http://tapahtumat.ek-tieto.fi/event/q7yKW
END:VEVENT
END:VCALENDAR
